BEGIN:VCALENDAR
VERSION:2.0
PRODID:-//The Irish Pub Berlin - ECPv6.13.2.1//NONSGML v1.0//EN
CALSCALE:GREGORIAN
METHOD:PUBLISH
X-WR-CALNAME:The Irish Pub Berlin
X-ORIGINAL-URL:https://www.theirishpubberlin.de
X-WR-CALDESC:Veranstaltungen für The Irish Pub Berlin
REFRESH-INTERVAL;VALUE=DURATION:PT1H
X-Robots-Tag:noindex
X-PUBLISHED-TTL:PT1H
BEGIN:VTIMEZONE
TZID:UTC
BEGIN:STANDARD
TZOFFSETFROM:+0000
TZOFFSETTO:+0000
TZNAME:UTC
DTSTART:20260101T000000
END:STANDARD
END:VTIMEZONE
BEGIN:VEVENT
DTSTART;TZID=UTC:20260420T210000
DTEND;TZID=UTC:20260420T233000
DTSTAMP:20260424T083808
CREATED:20260328T201640Z
LAST-MODIFIED:20260328T201640Z
UID:10001609-1776718800-1776727800@www.theirishpubberlin.de
SUMMARY:Live Music by Mar Wolf
DESCRIPTION:
URL:https://www.theirishpubberlin.de/event/live-music-by-mar-wolf-8/
CATEGORIES:Music
END:VEVENT
END:VCALENDAR